BEGIN:VCALENDAR
VERSION:2.0
PRODID:-//Oswego Alliance Church - ECPv6.15.20//NONSGML v1.0//EN
CALSCALE:GREGORIAN
METHOD:PUBLISH
X-ORIGINAL-URL:https://oswegoalliance.org
X-WR-CALDESC:Events for Oswego Alliance Church
REFRESH-INTERVAL;VALUE=DURATION:PT1H
X-Robots-Tag:noindex
X-PUBLISHED-TTL:PT1H
BEGIN:VTIMEZONE
TZID:America/New_York
BEGIN:DAYLIGHT
TZOFFSETFROM:-0500
TZOFFSETTO:-0400
TZNAME:EDT
DTSTART:20240310T070000
END:DAYLIGHT
BEGIN:STANDARD
TZOFFSETFROM:-0400
TZOFFSETTO:-0500
TZNAME:EST
DTSTART:20241103T060000
END:STANDARD
BEGIN:DAYLIGHT
TZOFFSETFROM:-0500
TZOFFSETTO:-0400
TZNAME:EDT
DTSTART:20250309T070000
END:DAYLIGHT
BEGIN:STANDARD
TZOFFSETFROM:-0400
TZOFFSETTO:-0500
TZNAME:EST
DTSTART:20251102T060000
END:STANDARD
BEGIN:DAYLIGHT
TZOFFSETFROM:-0500
TZOFFSETTO:-0400
TZNAME:EDT
DTSTART:20260308T070000
END:DAYLIGHT
BEGIN:STANDARD
TZOFFSETFROM:-0400
TZOFFSETTO:-0500
TZNAME:EST
DTSTART:20261101T060000
END:STANDARD
END:VTIMEZONE
BEGIN:VEVENT
DTSTART;TZID=America/New_York:20250424T090000
DTEND;TZID=America/New_York:20250424T100000
DTSTAMP:20260423T060608
CREATED:20250418T185114Z
LAST-MODIFIED:20250723T164411Z
UID:10002183-1745485200-1745488800@oswegoalliance.org
SUMMARY:Men's Coffee
DESCRIPTION:Men’s Coffee\n\n\n\nMen’s Coffee meets weekly on Thursdays at 9:00 am at Coffee Connection.
URL:https://oswegoalliance.org/event/mens-coffee/2025-04-24/
LOCATION:The Coffee Connection\, 156 W. Second St.\, Oswego\, NY\, 13126\, United States
CATEGORIES:Community
ATTACH;FMTTYPE=image/jpeg:https://oswegoalliance.org/wp-content/uploads/2025/04/updated.jpg
END:VEVENT
BEGIN:VEVENT
DTSTART;TZID=America/New_York:20250417T090000
DTEND;TZID=America/New_York:20250417T100000
DTSTAMP:20260423T060608
CREATED:20250404T015107Z
LAST-MODIFIED:20250417T130914Z
UID:10002182-1744880400-1744884000@oswegoalliance.org
SUMMARY:Men's Coffee
DESCRIPTION:Men’s Coffee\n\n\n\nMen’s Coffee meets weekly on Thursdays at 9:00 am at Coffee Connection. \n\n\n\n\n152 West 2nd. St\n\n\n\nOswego\, NY 1326\n\n\n\n315-312-0090
URL:https://oswegoalliance.org/event/mens-coffee-3/2025-04-17/
LOCATION:The Coffee Connection\, 156 W. Second St.\, Oswego\, NY\, 13126\, United States
CATEGORIES:Community
ATTACH;FMTTYPE=image/png:https://oswegoalliance.org/wp-content/uploads/2024/10/Mens-coffee.png
END:VEVENT
BEGIN:VEVENT
DTSTART;TZID=America/New_York:20250416T093000
DTEND;TZID=America/New_York:20250416T110000
DTSTAMP:20260423T060608
CREATED:20250403T155536Z
LAST-MODIFIED:20250403T155620Z
UID:10001918-1744795800-1744801200@oswegoalliance.org
SUMMARY:Ladies' Coffee
DESCRIPTION:Ladies’ Coffee \n\n\n\nLadies’ Coffee meets weekly on Wednesdays at The Connection Point
URL:https://oswegoalliance.org/event/ladies-coffee/2025-04-16/
LOCATION:The Coffee Connection\, 156 W. Second St.\, Oswego\, NY\, 13126\, United States
ATTACH;FMTTYPE=image/png:https://oswegoalliance.org/wp-content/uploads/2024/10/Ladies-Coffee-1.png
END:VEVENT
BEGIN:VEVENT
DTSTART;TZID=America/New_York:20250410T090000
DTEND;TZID=America/New_York:20250410T100000
DTSTAMP:20260423T060608
CREATED:20250404T015107Z
LAST-MODIFIED:20250417T130914Z
UID:10002181-1744275600-1744279200@oswegoalliance.org
SUMMARY:Men's Coffee
DESCRIPTION:Men’s Coffee\n\n\n\nMen’s Coffee meets weekly on Thursdays at 9:00 am at Coffee Connection. \n\n\n\n\n152 West 2nd. St\n\n\n\nOswego\, NY 1326\n\n\n\n315-312-0090
URL:https://oswegoalliance.org/event/mens-coffee-3/2025-04-10/
LOCATION:The Coffee Connection\, 156 W. Second St.\, Oswego\, NY\, 13126\, United States
CATEGORIES:Community
ATTACH;FMTTYPE=image/png:https://oswegoalliance.org/wp-content/uploads/2024/10/Mens-coffee.png
END:VEVENT
BEGIN:VEVENT
DTSTART;TZID=America/New_York:20250409T093000
DTEND;TZID=America/New_York:20250409T110000
DTSTAMP:20260423T060608
CREATED:20250403T155536Z
LAST-MODIFIED:20250403T155620Z
UID:10001917-1744191000-1744196400@oswegoalliance.org
SUMMARY:Ladies' Coffee
DESCRIPTION:Ladies’ Coffee \n\n\n\nLadies’ Coffee meets weekly on Wednesdays at The Connection Point
URL:https://oswegoalliance.org/event/ladies-coffee/2025-04-09/
LOCATION:The Coffee Connection\, 156 W. Second St.\, Oswego\, NY\, 13126\, United States
ATTACH;FMTTYPE=image/png:https://oswegoalliance.org/wp-content/uploads/2024/10/Ladies-Coffee-1.png
END:VEVENT
BEGIN:VEVENT
DTSTART;TZID=America/New_York:20250403T090000
DTEND;TZID=America/New_York:20250403T100000
DTSTAMP:20260423T060608
CREATED:20250404T015107Z
LAST-MODIFIED:20250417T130914Z
UID:10002180-1743670800-1743674400@oswegoalliance.org
SUMMARY:Men's Coffee
DESCRIPTION:Men’s Coffee\n\n\n\nMen’s Coffee meets weekly on Thursdays at 9:00 am at Coffee Connection. \n\n\n\n\n152 West 2nd. St\n\n\n\nOswego\, NY 1326\n\n\n\n315-312-0090
URL:https://oswegoalliance.org/event/mens-coffee-3/2025-04-03/
LOCATION:The Coffee Connection\, 156 W. Second St.\, Oswego\, NY\, 13126\, United States
CATEGORIES:Community
ATTACH;FMTTYPE=image/png:https://oswegoalliance.org/wp-content/uploads/2024/10/Mens-coffee.png
END:VEVENT
END:VCALENDAR