BEGIN:VCALENDAR
VERSION:2.0
PRODID:-//Oswego Alliance Church - ECPv6.15.20//NONSGML v1.0//EN
CALSCALE:GREGORIAN
METHOD:PUBLISH
X-WR-CALNAME:Oswego Alliance Church
X-ORIGINAL-URL:https://oswegoalliance.org
X-WR-CALDESC:Events for Oswego Alliance Church
REFRESH-INTERVAL;VALUE=DURATION:PT1H
X-Robots-Tag:noindex
X-PUBLISHED-TTL:PT1H
BEGIN:VTIMEZONE
TZID:America/New_York
BEGIN:DAYLIGHT
TZOFFSETFROM:-0500
TZOFFSETTO:-0400
TZNAME:EDT
DTSTART:20220313T070000
END:DAYLIGHT
BEGIN:STANDARD
TZOFFSETFROM:-0400
TZOFFSETTO:-0500
TZNAME:EST
DTSTART:20221106T060000
END:STANDARD
BEGIN:DAYLIGHT
TZOFFSETFROM:-0500
TZOFFSETTO:-0400
TZNAME:EDT
DTSTART:20230312T070000
END:DAYLIGHT
BEGIN:STANDARD
TZOFFSETFROM:-0400
TZOFFSETTO:-0500
TZNAME:EST
DTSTART:20231105T060000
END:STANDARD
BEGIN:DAYLIGHT
TZOFFSETFROM:-0500
TZOFFSETTO:-0400
TZNAME:EDT
DTSTART:20240310T070000
END:DAYLIGHT
BEGIN:STANDARD
TZOFFSETFROM:-0400
TZOFFSETTO:-0500
TZNAME:EST
DTSTART:20241103T060000
END:STANDARD
BEGIN:DAYLIGHT
TZOFFSETFROM:-0500
TZOFFSETTO:-0400
TZNAME:EDT
DTSTART:20250309T070000
END:DAYLIGHT
BEGIN:STANDARD
TZOFFSETFROM:-0400
TZOFFSETTO:-0500
TZNAME:EST
DTSTART:20251102T060000
END:STANDARD
END:VTIMEZONE
BEGIN:VEVENT
DTSTART;TZID=America/New_York:20241207T160000
DTEND;TZID=America/New_York:20241207T190000
DTSTAMP:20260423T200411
CREATED:20241031T221832Z
LAST-MODIFIED:20241031T222039Z
UID:10000981-1733587200-1733598000@oswegoalliance.org
SUMMARY:Parents Night Out: Presented by Foster life
DESCRIPTION:Foster Life of Oswego County is a ministry created by a group of local foster families who have a heart to recruit\, equip\, and encourage other foster families in our community.  We aim to do so by offering monthly respite events that provide free childcare while parents have a few hours to themselves\, by offering support groups and trainings\, and by providing meals for foster families when needed. \n\n\n\nOur monthly respite event is held the first Saturday of the month from September though June. The event runs from 4-7pm and is held at the Oswego Alliance Church. Foster and adoptive families can drop off all children in their family for a night of fun! \n\n\n\nWe are always looking for more volunteers to help run our respite night events. If you have interest in spending a few hours with some fun kids please let us know! \n\n\n\nAny questions or requests for more information can be sent to fosterlifeoswegocounty@gmail.com
URL:https://oswegoalliance.org/event/parents-night-out-presented-by-foster-life-2/
LOCATION:Oswego Alliance Church\, 371 Thompson Rd.\, Oswego\, NY\, 13126\, United States
ATTACH;FMTTYPE=image/jpeg:https://oswegoalliance.org/wp-content/uploads/2024/10/foster-life-official-logo-e1756310405388.jpg
END:VEVENT
BEGIN:VEVENT
DTSTART;TZID=America/New_York:20241129T113000
DTEND;TZID=America/New_York:20241129T163000
DTSTAMP:20260423T200411
CREATED:20241112T203621Z
LAST-MODIFIED:20241112T220210Z
UID:10001000-1732879800-1732897800@oswegoalliance.org
SUMMARY:American Red Cross Blood Drive
DESCRIPTION:Blood Drive\n\n\n\n\n\n\n\nOswego Alliance Church \n\n\n\n371 Thomspon Rd. Oswego\, NY 13126 \n\n\n\n\nPLEASE GO TO REDCROSSBLOOD.ORG TO MAKE YOUR LIFESAVING APPOINTMENT TOAY
URL:https://oswegoalliance.org/event/american-red-cross-blood-drive/
LOCATION:Oswego Alliance Church\, 371 Thompson Rd.\, Oswego\, NY\, 13126\, United States
ATTACH;FMTTYPE=image/png:https://oswegoalliance.org/wp-content/uploads/2024/11/BLOOD-DRIVE-THIS-ONE.png
END:VEVENT
BEGIN:VEVENT
DTSTART;TZID=America/New_York:20241124T113000
DTEND;TZID=America/New_York:20241124T130000
DTSTAMP:20260423T200411
CREATED:20230802T205116Z
LAST-MODIFIED:20250117T164919Z
UID:10000150-1732447800-1732453200@oswegoalliance.org
SUMMARY:Good Afternoon Gatherings
DESCRIPTION:Join us after service in the lobby on the last Sunday of every month for a special treat to make it a good afternoon! \n\n\n\n\n\nHosted By:
URL:https://oswegoalliance.org/event/good-afternoon-gatherings/2024-11-24/
LOCATION:Oswego Alliance Church\, 371 Thompson Rd.\, Oswego\, NY\, 13126\, United States
CATEGORIES:Church Event,Fellowship Event
ATTACH;FMTTYPE=image/png:https://oswegoalliance.org/wp-content/uploads/2023/08/Red-Potluck-Invitation-3.png
END:VEVENT
BEGIN:VEVENT
DTSTART;TZID=America/New_York:20241124T110000
DTEND;TZID=America/New_York:20241124T120000
DTSTAMP:20260423T200411
CREATED:20241105T213824Z
LAST-MODIFIED:20241115T162329Z
UID:10000995-1732446000-1732449600@oswegoalliance.org
SUMMARY:Better Together Lunch Together: November 24 after service
DESCRIPTION:Better Together Lunch Together – November 24th – after service \n\n\n\nPlease join us for lunch in the Narthex after service.  We will provide Pulled Pork and Tri-tips.  If you are able to bring a side dish of cabbage salad\, macaroni & cheese\, baked beans\, or dessert\, there is a sign-up sheet in the Narthex.
URL:https://oswegoalliance.org/event/cook-off-november-24-after-service/
LOCATION:Oswego Alliance Church\, 371 Thompson Rd.\, Oswego\, NY\, 13126\, United States
ATTACH;FMTTYPE=image/png:https://oswegoalliance.org/wp-content/uploads/2024/11/Better-Together-Lunch-Together-.png
END:VEVENT
BEGIN:VEVENT
DTSTART;TZID=America/New_York:20241124T100000
DTEND;TZID=America/New_York:20241124T110000
DTSTAMP:20260423T200411
CREATED:20241121T140843Z
LAST-MODIFIED:20241121T140918Z
UID:10001002-1732442400-1732446000@oswegoalliance.org
SUMMARY:Sunday\, November 24\, 2024: A Service of Gratitude and Praise 
DESCRIPTION:Sunday\, November 24\, 2024: A Service of Gratitude and Praise\n\n\n\nAs a church family we will gather together with hearts of gratitude and praise. \n\n\n\nThe origins of Thanksgiving are in harvest festivals. It was customary to express gratitude for a bountiful harvest in the cultures of both the Pilgrims who sailed from England in 1620 and the Native Americans they encountered. \n\n\n\nAt its core\, Thanksgiving is an expression of gratitude\, a virtue that resonates deeply with the Christian faith. Gratitude is more than just the acknowledgment of blessings; it is a profound recognition of the divine benevolence and provision that permeates every aspect of our lives. \n\n\n\nWe will have a time of sharing praise to God for what He has done in our lives throughout 2024.  \n\n\n\nWe are asking you as families or individuals to find a rock on which to write a word of gratitude that expresses your thanks to God. We will place these with the other rocks on the platform.
URL:https://oswegoalliance.org/event/sunday-november-24-2024-a-service-of-gratitude-and-praise/
LOCATION:Oswego Alliance Church\, 371 Thompson Rd.\, Oswego\, NY\, 13126\, United States
ATTACH;FMTTYPE=image/png:https://oswegoalliance.org/wp-content/uploads/2024/11/A-Service-of-Gratitude-and-Praise.png
END:VEVENT
BEGIN:VEVENT
DTSTART;TZID=America/New_York:20241121T190000
DTEND;TZID=America/New_York:20241121T203000
DTSTAMP:20260423T200411
CREATED:20240722T120645Z
LAST-MODIFIED:20240722T122657Z
UID:10000278-1732215600-1732221000@oswegoalliance.org
SUMMARY:Foster the Family Caregiver Support Group
DESCRIPTION:This community group provides emotional\, mental\, and spiritual support to foster and adoptive care moms. This group meets every third Thursday of the month in the classroom next to the coffee area. \n\n\n\nFor Information
URL:https://oswegoalliance.org/event/foster-the-family-caregiver-support-group-3/2024-11-21/
LOCATION:Oswego Alliance Church\, 371 Thompson Rd.\, Oswego\, NY\, 13126\, United States
CATEGORIES:Community,Foster Care
ATTACH;FMTTYPE=image/png:https://oswegoalliance.org/wp-content/uploads/2024/07/foster-the-family-edited-in-canva-copy.png
ORGANIZER;CN="Jillian Pritchard":MAILTO:jillianpritchard1@gmail.com
END:VEVENT
BEGIN:VEVENT
DTSTART;TZID=America/New_York:20241108T150000
DTEND;TZID=America/New_York:20241108T160000
DTSTAMP:20260423T200411
CREATED:20241005T153451Z
LAST-MODIFIED:20241012T232946Z
UID:10000969-1731078000-1731081600@oswegoalliance.org
SUMMARY:Mobile Food Pantry 11/8/2024 3:00 pm
DESCRIPTION:Notice: Earlier start time for November 8\, 2024    3PM\n\n\n\n\n\n\n\nThe Oswego County Health Department partners with the Food Bank of Central New York to bring the Mobile Food Pantry to our county. The Oswego Alliance Church is glad to be a place where this occurs. \n\n\n\nAnyone in need of food assistance is encouraged to attend and receive a free box of food. The food boxes are limited to one per household and will be distributed while supplies last. There are no income requirements for families and individuals wishing to receive food. \n\n\n\nDrive Thru Style
URL:https://oswegoalliance.org/event/mobile-food-pantry-11-8-2024-400-pm/
LOCATION:Oswego Alliance Church\, 371 Thompson Rd.\, Oswego\, NY\, 13126\, United States
ATTACH;FMTTYPE=image/jpeg:https://oswegoalliance.org/wp-content/uploads/2024/07/food-truck.jpg
END:VEVENT
BEGIN:VEVENT
DTSTART;TZID=America/New_York:20241102T160000
DTEND;TZID=America/New_York:20241102T190000
DTSTAMP:20260423T200411
CREATED:20241031T201632Z
LAST-MODIFIED:20241031T201634Z
UID:10000979-1730563200-1730574000@oswegoalliance.org
SUMMARY:Parents Night Out: Presented by Foster life
DESCRIPTION:Foster Life of Oswego County is a ministry created by a group of local foster families who have a heart to recruit\, equip\, and encourage other foster families in our community.  We aim to do so by offering monthly respite events that provide free childcare while parents have a few hours to themselves\, by offering support groups and trainings\, and by providing meals for foster families when needed. \n\n\n\nOur monthly respite event is held the first Saturday of the month from September though June. The event runs from 4-7pm and is held at the Oswego Alliance Church. Foster and adoptive families can drop off all children in their family for a night of fun! \n\n\n\nWe are always looking for more volunteers to help run our respite night events. If you have interest in spending a few hours with some fun kids please let us know! \n\n\n\nAny questions or requests for more information can be sent to fosterlifeoswegocounty@gmail.com
URL:https://oswegoalliance.org/event/parents-night-out-presented-by-foster-life/
LOCATION:Oswego Alliance Church\, 371 Thompson Rd.\, Oswego\, NY\, 13126\, United States
ATTACH;FMTTYPE=image/jpeg:https://oswegoalliance.org/wp-content/uploads/2024/10/foster-life-official-logo-e1756310405388.jpg
END:VEVENT
BEGIN:VEVENT
DTSTART;TZID=America/New_York:20241027T113000
DTEND;TZID=America/New_York:20241027T130000
DTSTAMP:20260423T200411
CREATED:20230802T205116Z
LAST-MODIFIED:20250117T164919Z
UID:10000149-1730028600-1730034000@oswegoalliance.org
SUMMARY:Good Afternoon Gatherings
DESCRIPTION:Join us after service in the lobby on the last Sunday of every month for a special treat to make it a good afternoon! \n\n\n\n\n\nHosted By:
URL:https://oswegoalliance.org/event/good-afternoon-gatherings/2024-10-27/
LOCATION:Oswego Alliance Church\, 371 Thompson Rd.\, Oswego\, NY\, 13126\, United States
CATEGORIES:Church Event,Fellowship Event
ATTACH;FMTTYPE=image/png:https://oswegoalliance.org/wp-content/uploads/2023/08/Red-Potluck-Invitation-3.png
END:VEVENT
BEGIN:VEVENT
DTSTART;TZID=America/New_York:20241017T190000
DTEND;TZID=America/New_York:20241017T203000
DTSTAMP:20260423T200411
CREATED:20240722T120645Z
LAST-MODIFIED:20240722T122657Z
UID:10000277-1729191600-1729197000@oswegoalliance.org
SUMMARY:Foster the Family Caregiver Support Group
DESCRIPTION:This community group provides emotional\, mental\, and spiritual support to foster and adoptive care moms. This group meets every third Thursday of the month in the classroom next to the coffee area. \n\n\n\nFor Information
URL:https://oswegoalliance.org/event/foster-the-family-caregiver-support-group-3/2024-10-17/
LOCATION:Oswego Alliance Church\, 371 Thompson Rd.\, Oswego\, NY\, 13126\, United States
CATEGORIES:Community,Foster Care
ATTACH;FMTTYPE=image/png:https://oswegoalliance.org/wp-content/uploads/2024/07/foster-the-family-edited-in-canva-copy.png
ORGANIZER;CN="Jillian Pritchard":MAILTO:jillianpritchard1@gmail.com
END:VEVENT
BEGIN:VEVENT
DTSTART;TZID=America/New_York:20241011T160000
DTEND;TZID=America/New_York:20241011T170000
DTSTAMP:20260423T200411
CREATED:20240911T152048Z
LAST-MODIFIED:20240911T152051Z
UID:10000965-1728662400-1728666000@oswegoalliance.org
SUMMARY:Mobile Food Pantry
DESCRIPTION:The Oswego County Health Department partners with the Food Bank of Central New York to bring the Mobile Food Pantry to our county. The Oswego Alliance Church is glad to be a place where this occurs. \n\n\n\nAnyone in need of food assistance is encouraged to attend and receive a free box of food. The food boxes are limited to one per household and will be distributed while supplies last. There are no income requirements for families and individuals wishing to receive food. \n\n\n\nDrive Thru Style
URL:https://oswegoalliance.org/event/mobile-food-pantry-4/
LOCATION:Oswego Alliance Church\, 371 Thompson Rd.\, Oswego\, NY\, 13126\, United States
ATTACH;FMTTYPE=image/jpeg:https://oswegoalliance.org/wp-content/uploads/2024/07/food-truck.jpg
END:VEVENT
BEGIN:VEVENT
DTSTART;TZID=America/New_York:20241006T183000
DTEND;TZID=America/New_York:20241006T193000
DTSTAMP:20260423T200411
CREATED:20241005T143448Z
LAST-MODIFIED:20241005T145213Z
UID:10000967-1728239400-1728243000@oswegoalliance.org
SUMMARY:Informational meeting for DR Trip 2025
DESCRIPTION:For anyone interested in participating our upcoming 2025 Trip to the Dominican Republic to serve alongside Mission 2535 (https://mission2535.org/) please come to the Informational Meeting on Oct. 6th at 6:30 PM at Oswego Alliance Church. We will provide an overview of Mission 2535 and areas where we could serve in medical clinics\, work on various building projects or even assist in ministries which are conducted by Mission 2535 in the communities and local churches. If you are interested and are unable to attend\, please let us know. \n\n\n\n\nClick here to fill out the online appliaction
URL:https://oswegoalliance.org/event/informational-meeting-for-dr-trip-2025/
LOCATION:Oswego Alliance Church\, 371 Thompson Rd.\, Oswego\, NY\, 13126\, United States
ATTACH;FMTTYPE=image/png:https://oswegoalliance.org/wp-content/uploads/2024/10/Informational-Meeting-Announcement-Image.PNG.png
END:VEVENT
BEGIN:VEVENT
DTSTART;TZID=America/New_York:20240929T113000
DTEND;TZID=America/New_York:20240929T130000
DTSTAMP:20260423T200411
CREATED:20230802T205116Z
LAST-MODIFIED:20250117T164919Z
UID:10000148-1727609400-1727614800@oswegoalliance.org
SUMMARY:Good Afternoon Gatherings
DESCRIPTION:Join us after service in the lobby on the last Sunday of every month for a special treat to make it a good afternoon! \n\n\n\n\n\nHosted By:
URL:https://oswegoalliance.org/event/good-afternoon-gatherings/2024-09-29/
LOCATION:Oswego Alliance Church\, 371 Thompson Rd.\, Oswego\, NY\, 13126\, United States
CATEGORIES:Church Event,Fellowship Event
ATTACH;FMTTYPE=image/png:https://oswegoalliance.org/wp-content/uploads/2023/08/Red-Potluck-Invitation-3.png
END:VEVENT
BEGIN:VEVENT
DTSTART;TZID=America/New_York:20240929T100000
DTEND;TZID=America/New_York:20240929T113000
DTSTAMP:20260423T200411
CREATED:20240911T155632Z
LAST-MODIFIED:20240911T155733Z
UID:10000966-1727604000-1727609400@oswegoalliance.org
SUMMARY:Congregational meeting 9/29/2024 10:00 am during regular Church Service
DESCRIPTION:The Oswego Alliance Church will have a Congregational Meeting during the Regular 10:00 am Church Service.
URL:https://oswegoalliance.org/event/congregational-meeting-9-29-2024-1000-am-during-regular-church-service/
LOCATION:Oswego Alliance Church\, 371 Thompson Rd.\, Oswego\, NY\, 13126\, United States
ATTACH;FMTTYPE=image/png:https://oswegoalliance.org/wp-content/uploads/2024/09/COngregational-Meeting.png
END:VEVENT
BEGIN:VEVENT
DTSTART;TZID=America/New_York:20240919T190000
DTEND;TZID=America/New_York:20240919T203000
DTSTAMP:20260423T200411
CREATED:20240722T120645Z
LAST-MODIFIED:20240722T122657Z
UID:10000276-1726772400-1726777800@oswegoalliance.org
SUMMARY:Foster the Family Caregiver Support Group
DESCRIPTION:This community group provides emotional\, mental\, and spiritual support to foster and adoptive care moms. This group meets every third Thursday of the month in the classroom next to the coffee area. \n\n\n\nFor Information
URL:https://oswegoalliance.org/event/foster-the-family-caregiver-support-group-3/2024-09-19/
LOCATION:Oswego Alliance Church\, 371 Thompson Rd.\, Oswego\, NY\, 13126\, United States
CATEGORIES:Community,Foster Care
ATTACH;FMTTYPE=image/png:https://oswegoalliance.org/wp-content/uploads/2024/07/foster-the-family-edited-in-canva-copy.png
ORGANIZER;CN="Jillian Pritchard":MAILTO:jillianpritchard1@gmail.com
END:VEVENT
BEGIN:VEVENT
DTSTART;TZID=America/New_York:20240913T160000
DTEND;TZID=America/New_York:20240913T170000
DTSTAMP:20260423T200411
CREATED:20240814T161117Z
LAST-MODIFIED:20240827T173300Z
UID:10000705-1726243200-1726246800@oswegoalliance.org
SUMMARY:Mobile Food Pantry
DESCRIPTION:The Oswego County Health Department partners with the Food Bank of Central New York to bring the Mobile Food Pantry to our county. The Oswego Alliance Church is glad to be a place where this occurs. \n\n\n\nAnyone in need of food assistance is encouraged to attend and receive a free box of food. The food boxes are limited to one per household and will be distributed while supplies last. There are no income requirements for families and individuals wishing to receive food. \n\n\n\nDrive Thru Style
URL:https://oswegoalliance.org/event/mobile-food-pantry-3/
LOCATION:Oswego Alliance Church\, 371 Thompson Rd.\, Oswego\, NY\, 13126\, United States
ATTACH;FMTTYPE=image/jpeg:https://oswegoalliance.org/wp-content/uploads/2024/07/food-truck.jpg
END:VEVENT
BEGIN:VEVENT
DTSTART;TZID=America/New_York:20240908T100000
DTEND;TZID=America/New_York:20240908T150000
DTSTAMP:20260423T200411
CREATED:20240809T144719Z
LAST-MODIFIED:20240809T150653Z
UID:10000703-1725789600-1725807600@oswegoalliance.org
SUMMARY:vintage church picnic
DESCRIPTION:Church Service at 10:00 am: Vintage Church Picnic to Follow \n\n\n\nBring a Dish to Pass and Wear Appropriate Clothes to Play Outdoor Games! \n\n\n\nIf you have them\, you may also bring Yard Games\, Lawn Chairs\, a Blanket\, or an EZ Up Tent for Shade. \n\n\n\nEveryone and Anyone is Invited! (Even if you forget your dish to pass!!)
URL:https://oswegoalliance.org/event/vintage-church-picnic/
LOCATION:Oswego Alliance Church\, 371 Thompson Rd.\, Oswego\, NY\, 13126\, United States
ATTACH;FMTTYPE=image/png:https://oswegoalliance.org/wp-content/uploads/2024/08/Design.png
END:VEVENT
BEGIN:VEVENT
DTSTART;TZID=America/New_York:20240825T113000
DTEND;TZID=America/New_York:20240825T130000
DTSTAMP:20260423T200411
CREATED:20230802T205116Z
LAST-MODIFIED:20250117T164919Z
UID:10000147-1724585400-1724590800@oswegoalliance.org
SUMMARY:Good Afternoon Gatherings
DESCRIPTION:Join us after service in the lobby on the last Sunday of every month for a special treat to make it a good afternoon! \n\n\n\n\n\nHosted By:
URL:https://oswegoalliance.org/event/good-afternoon-gatherings/2024-08-25/
LOCATION:Oswego Alliance Church\, 371 Thompson Rd.\, Oswego\, NY\, 13126\, United States
CATEGORIES:Church Event,Fellowship Event
ATTACH;FMTTYPE=image/png:https://oswegoalliance.org/wp-content/uploads/2023/08/Red-Potluck-Invitation-3.png
END:VEVENT
BEGIN:VEVENT
DTSTART;TZID=America/New_York:20240815T190000
DTEND;TZID=America/New_York:20240815T203000
DTSTAMP:20260423T200411
CREATED:20240722T120645Z
LAST-MODIFIED:20240722T122657Z
UID:10000275-1723748400-1723753800@oswegoalliance.org
SUMMARY:Foster the Family Caregiver Support Group
DESCRIPTION:This community group provides emotional\, mental\, and spiritual support to foster and adoptive care moms. This group meets every third Thursday of the month in the classroom next to the coffee area. \n\n\n\nFor Information
URL:https://oswegoalliance.org/event/foster-the-family-caregiver-support-group-3/2024-08-15/
LOCATION:Oswego Alliance Church\, 371 Thompson Rd.\, Oswego\, NY\, 13126\, United States
CATEGORIES:Community,Foster Care
ATTACH;FMTTYPE=image/png:https://oswegoalliance.org/wp-content/uploads/2024/07/foster-the-family-edited-in-canva-copy.png
ORGANIZER;CN="Jillian Pritchard":MAILTO:jillianpritchard1@gmail.com
END:VEVENT
BEGIN:VEVENT
DTSTART;TZID=America/New_York:20240728T113000
DTEND;TZID=America/New_York:20240728T130000
DTSTAMP:20260423T200411
CREATED:20230802T205116Z
LAST-MODIFIED:20250117T164919Z
UID:10000146-1722166200-1722171600@oswegoalliance.org
SUMMARY:Good Afternoon Gatherings
DESCRIPTION:Join us after service in the lobby on the last Sunday of every month for a special treat to make it a good afternoon! \n\n\n\n\n\nHosted By:
URL:https://oswegoalliance.org/event/good-afternoon-gatherings/2024-07-28/
LOCATION:Oswego Alliance Church\, 371 Thompson Rd.\, Oswego\, NY\, 13126\, United States
CATEGORIES:Church Event,Fellowship Event
ATTACH;FMTTYPE=image/png:https://oswegoalliance.org/wp-content/uploads/2023/08/Red-Potluck-Invitation-3.png
END:VEVENT
BEGIN:VEVENT
DTSTART;TZID=America/New_York:20240718T190000
DTEND;TZID=America/New_York:20240718T203000
DTSTAMP:20260423T200411
CREATED:20240619T202117Z
LAST-MODIFIED:20240619T221814Z
UID:10000274-1721329200-1721334600@oswegoalliance.org
SUMMARY:Foster the Family Caregiver Support Group
DESCRIPTION:This community group provides emotional\, mental\, and spiritual support to foster and adoptive care moms. This group meets every third Thursday of the month in the classroom next to the coffee area. \n\n\n\nFor Information
URL:https://oswegoalliance.org/event/foster-the-family-caregiver-support-group/2024-07-18/
LOCATION:Oswego Alliance Church\, 371 Thompson Rd.\, Oswego\, NY\, 13126\, United States
CATEGORIES:Community,Foster Care
ATTACH;FMTTYPE=image/jpeg:https://oswegoalliance.org/wp-content/uploads/2023/02/clasped-hands-comfort-hands-people-45842-1.jpeg
ORGANIZER;CN="Jillian Pritchard":MAILTO:jillianpritchard1@gmail.com
END:VEVENT
BEGIN:VEVENT
DTSTART;TZID=America/New_York:20240630T113000
DTEND;TZID=America/New_York:20240630T130000
DTSTAMP:20260423T200411
CREATED:20230802T205116Z
LAST-MODIFIED:20250117T164919Z
UID:10000145-1719747000-1719752400@oswegoalliance.org
SUMMARY:Good Afternoon Gatherings
DESCRIPTION:Join us after service in the lobby on the last Sunday of every month for a special treat to make it a good afternoon! \n\n\n\n\n\nHosted By:
URL:https://oswegoalliance.org/event/good-afternoon-gatherings/2024-06-30/
LOCATION:Oswego Alliance Church\, 371 Thompson Rd.\, Oswego\, NY\, 13126\, United States
CATEGORIES:Church Event,Fellowship Event
ATTACH;FMTTYPE=image/png:https://oswegoalliance.org/wp-content/uploads/2023/08/Red-Potluck-Invitation-3.png
END:VEVENT
BEGIN:VEVENT
DTSTART;TZID=America/New_York:20240620T190000
DTEND;TZID=America/New_York:20240620T203000
DTSTAMP:20260423T200411
CREATED:20240619T202117Z
LAST-MODIFIED:20240619T221814Z
UID:10000273-1718910000-1718915400@oswegoalliance.org
SUMMARY:Foster the Family Caregiver Support Group
DESCRIPTION:This community group provides emotional\, mental\, and spiritual support to foster and adoptive care moms. This group meets every third Thursday of the month in the classroom next to the coffee area. \n\n\n\nFor Information
URL:https://oswegoalliance.org/event/foster-the-family-caregiver-support-group/2024-06-20/
LOCATION:Oswego Alliance Church\, 371 Thompson Rd.\, Oswego\, NY\, 13126\, United States
CATEGORIES:Community,Foster Care
ATTACH;FMTTYPE=image/jpeg:https://oswegoalliance.org/wp-content/uploads/2023/02/clasped-hands-comfort-hands-people-45842-1.jpeg
ORGANIZER;CN="Jillian Pritchard":MAILTO:jillianpritchard1@gmail.com
END:VEVENT
BEGIN:VEVENT
DTSTART;TZID=America/New_York:20240526T113000
DTEND;TZID=America/New_York:20240526T130000
DTSTAMP:20260423T200411
CREATED:20230802T205116Z
LAST-MODIFIED:20250117T164919Z
UID:10000144-1716723000-1716728400@oswegoalliance.org
SUMMARY:Good Afternoon Gatherings
DESCRIPTION:Join us after service in the lobby on the last Sunday of every month for a special treat to make it a good afternoon! \n\n\n\n\n\nHosted By:
URL:https://oswegoalliance.org/event/good-afternoon-gatherings/2024-05-26/
LOCATION:Oswego Alliance Church\, 371 Thompson Rd.\, Oswego\, NY\, 13126\, United States
CATEGORIES:Church Event,Fellowship Event
ATTACH;FMTTYPE=image/png:https://oswegoalliance.org/wp-content/uploads/2023/08/Red-Potluck-Invitation-3.png
END:VEVENT
BEGIN:VEVENT
DTSTART;TZID=America/New_York:20240428T113000
DTEND;TZID=America/New_York:20240428T130000
DTSTAMP:20260423T200411
CREATED:20230802T205116Z
LAST-MODIFIED:20250117T164919Z
UID:10000143-1714303800-1714309200@oswegoalliance.org
SUMMARY:Good Afternoon Gatherings
DESCRIPTION:Join us after service in the lobby on the last Sunday of every month for a special treat to make it a good afternoon! \n\n\n\n\n\nHosted By:
URL:https://oswegoalliance.org/event/good-afternoon-gatherings/2024-04-28/
LOCATION:Oswego Alliance Church\, 371 Thompson Rd.\, Oswego\, NY\, 13126\, United States
CATEGORIES:Church Event,Fellowship Event
ATTACH;FMTTYPE=image/png:https://oswegoalliance.org/wp-content/uploads/2023/08/Red-Potluck-Invitation-3.png
END:VEVENT
BEGIN:VEVENT
DTSTART;TZID=America/New_York:20240331T113000
DTEND;TZID=America/New_York:20240331T130000
DTSTAMP:20260423T200411
CREATED:20230802T205116Z
LAST-MODIFIED:20250117T164919Z
UID:10000142-1711884600-1711890000@oswegoalliance.org
SUMMARY:Good Afternoon Gatherings
DESCRIPTION:Join us after service in the lobby on the last Sunday of every month for a special treat to make it a good afternoon! \n\n\n\n\n\nHosted By:
URL:https://oswegoalliance.org/event/good-afternoon-gatherings/2024-03-31/
LOCATION:Oswego Alliance Church\, 371 Thompson Rd.\, Oswego\, NY\, 13126\, United States
CATEGORIES:Church Event,Fellowship Event
ATTACH;FMTTYPE=image/png:https://oswegoalliance.org/wp-content/uploads/2023/08/Red-Potluck-Invitation-3.png
END:VEVENT
BEGIN:VEVENT
DTSTART;TZID=America/New_York:20240225T113000
DTEND;TZID=America/New_York:20240225T130000
DTSTAMP:20260423T200411
CREATED:20230802T205116Z
LAST-MODIFIED:20250117T164919Z
UID:10000141-1708860600-1708866000@oswegoalliance.org
SUMMARY:Good Afternoon Gatherings
DESCRIPTION:Join us after service in the lobby on the last Sunday of every month for a special treat to make it a good afternoon! \n\n\n\n\n\nHosted By:
URL:https://oswegoalliance.org/event/good-afternoon-gatherings/2024-02-25/
LOCATION:Oswego Alliance Church\, 371 Thompson Rd.\, Oswego\, NY\, 13126\, United States
CATEGORIES:Church Event,Fellowship Event
ATTACH;FMTTYPE=image/png:https://oswegoalliance.org/wp-content/uploads/2023/08/Red-Potluck-Invitation-3.png
END:VEVENT
BEGIN:VEVENT
DTSTART;TZID=America/New_York:20240128T113000
DTEND;TZID=America/New_York:20240128T130000
DTSTAMP:20260423T200411
CREATED:20230802T205116Z
LAST-MODIFIED:20250117T164919Z
UID:10000140-1706441400-1706446800@oswegoalliance.org
SUMMARY:Good Afternoon Gatherings
DESCRIPTION:Join us after service in the lobby on the last Sunday of every month for a special treat to make it a good afternoon! \n\n\n\n\n\nHosted By:
URL:https://oswegoalliance.org/event/good-afternoon-gatherings/2024-01-28/
LOCATION:Oswego Alliance Church\, 371 Thompson Rd.\, Oswego\, NY\, 13126\, United States
CATEGORIES:Church Event,Fellowship Event
ATTACH;FMTTYPE=image/png:https://oswegoalliance.org/wp-content/uploads/2023/08/Red-Potluck-Invitation-3.png
END:VEVENT
BEGIN:VEVENT
DTSTART;TZID=America/New_York:20231231T113000
DTEND;TZID=America/New_York:20231231T130000
DTSTAMP:20260423T200411
CREATED:20230802T205116Z
LAST-MODIFIED:20250117T164919Z
UID:10000139-1704022200-1704027600@oswegoalliance.org
SUMMARY:Good Afternoon Gatherings
DESCRIPTION:Join us after service in the lobby on the last Sunday of every month for a special treat to make it a good afternoon! \n\n\n\n\n\nHosted By:
URL:https://oswegoalliance.org/event/good-afternoon-gatherings/2023-12-31/
LOCATION:Oswego Alliance Church\, 371 Thompson Rd.\, Oswego\, NY\, 13126\, United States
CATEGORIES:Church Event,Fellowship Event
ATTACH;FMTTYPE=image/png:https://oswegoalliance.org/wp-content/uploads/2023/08/Red-Potluck-Invitation-3.png
END:VEVENT
BEGIN:VEVENT
DTSTART;TZID=America/New_York:20231126T113000
DTEND;TZID=America/New_York:20231126T130000
DTSTAMP:20260423T200411
CREATED:20230802T205116Z
LAST-MODIFIED:20250117T164919Z
UID:10000138-1700998200-1701003600@oswegoalliance.org
SUMMARY:Good Afternoon Gatherings
DESCRIPTION:Join us after service in the lobby on the last Sunday of every month for a special treat to make it a good afternoon! \n\n\n\n\n\nHosted By:
URL:https://oswegoalliance.org/event/good-afternoon-gatherings/2023-11-26/
LOCATION:Oswego Alliance Church\, 371 Thompson Rd.\, Oswego\, NY\, 13126\, United States
CATEGORIES:Church Event,Fellowship Event
ATTACH;FMTTYPE=image/png:https://oswegoalliance.org/wp-content/uploads/2023/08/Red-Potluck-Invitation-3.png
END:VEVENT
END:VCALENDAR