BEGIN:VCALENDAR
VERSION:2.0
PRODID:-//Oswego Alliance Church - ECPv6.15.20//NONSGML v1.0//EN
CALSCALE:GREGORIAN
METHOD:PUBLISH
X-WR-CALNAME:Oswego Alliance Church
X-ORIGINAL-URL:https://oswegoalliance.org
X-WR-CALDESC:Events for Oswego Alliance Church
REFRESH-INTERVAL;VALUE=DURATION:PT1H
X-Robots-Tag:noindex
X-PUBLISHED-TTL:PT1H
BEGIN:VTIMEZONE
TZID:America/New_York
BEGIN:DAYLIGHT
TZOFFSETFROM:-0500
TZOFFSETTO:-0400
TZNAME:EDT
DTSTART:20240310T070000
END:DAYLIGHT
BEGIN:STANDARD
TZOFFSETFROM:-0400
TZOFFSETTO:-0500
TZNAME:EST
DTSTART:20241103T060000
END:STANDARD
BEGIN:DAYLIGHT
TZOFFSETFROM:-0500
TZOFFSETTO:-0400
TZNAME:EDT
DTSTART:20250309T070000
END:DAYLIGHT
BEGIN:STANDARD
TZOFFSETFROM:-0400
TZOFFSETTO:-0500
TZNAME:EST
DTSTART:20251102T060000
END:STANDARD
BEGIN:DAYLIGHT
TZOFFSETFROM:-0500
TZOFFSETTO:-0400
TZNAME:EDT
DTSTART:20260308T070000
END:DAYLIGHT
BEGIN:STANDARD
TZOFFSETFROM:-0400
TZOFFSETTO:-0500
TZNAME:EST
DTSTART:20261101T060000
END:STANDARD
END:VTIMEZONE
BEGIN:VEVENT
DTSTART;TZID=America/New_York:20250622T100000
DTEND;TZID=America/New_York:20250622T110000
DTSTAMP:20260423T104105
CREATED:20250130T160039Z
LAST-MODIFIED:20250523T035337Z
UID:10001357-1750586400-1750590000@oswegoalliance.org
SUMMARY:Sunday Morning Worship Service
DESCRIPTION:Sunday Morning Worship Service\n\n\n\nOur goal is to provide you with a place to experience God as reflected in Scripture. We will have readings\, singing of hymns and modern worship songs\, prayers\, offerings and the preaching of God’s Word. How you participate will be entirely up to you and how God moves in your heart. \n\n\n\n10:00 am \n\n\n\nOAC Kids Ministry available up through 4th Grade
URL:https://oswegoalliance.org/event/sunday-morning-worship-service/2025-06-22/
LOCATION:Oswego Alliance Church\, 371 Thompson Rd.\, Oswego\, NY\, 13126\, United States
ATTACH;FMTTYPE=image/jpeg:https://oswegoalliance.org/wp-content/uploads/2025/01/ccf43960-e31a-46ef-b107-e6000ad40ceb.jpg
END:VEVENT
BEGIN:VEVENT
DTSTART;TZID=America/New_York:20250619T190000
DTEND;TZID=America/New_York:20250619T203000
DTSTAMP:20260423T104105
CREATED:20250422T035139Z
LAST-MODIFIED:20250729T062307Z
UID:10002453-1750359600-1750365000@oswegoalliance.org
SUMMARY:Foster the Family Caregiver Support Group
DESCRIPTION:This community group provides emotional\, mental\, and spiritual support to foster and adoptive care moms. This group meets every third Thursday of the month in the classroom next to the coffee area. \n\n\n\n \n\n\n\nFor Information
URL:https://oswegoalliance.org/event/foster-the-family-caregiver-support-group-5/2025-06-19/
LOCATION:Oswego Alliance Church\, 371 Thompson Rd.\, Oswego\, NY\, 13126\, United States
CATEGORIES:Community,Foster Care
ATTACH;FMTTYPE=image/png:https://oswegoalliance.org/wp-content/uploads/2025/04/Foster-The-Family-Care-Banner-1-e1753770165339.png
ORGANIZER;CN="Jillian Pritchard":MAILTO:jillianpritchard1@gmail.com
END:VEVENT
BEGIN:VEVENT
DTSTART;TZID=America/New_York:20250615T100000
DTEND;TZID=America/New_York:20250615T113000
DTSTAMP:20260423T104105
CREATED:20250515T162321Z
LAST-MODIFIED:20250515T162344Z
UID:10002575-1749981600-1749987000@oswegoalliance.org
SUMMARY:Baptism Service 6/15
DESCRIPTION:Father’s Day\, June 15th OAC will have a baptism service. \n\n\n\nPlease contact Pastor Verlyn for more information \n\n\n\npastorverlyn@oswegoalliance.org
URL:https://oswegoalliance.org/event/baptism-service-6-15/
LOCATION:Oswego Alliance Church\, 371 Thompson Rd.\, Oswego\, NY\, 13126\, United States
ATTACH;FMTTYPE=image/jpeg:https://oswegoalliance.org/wp-content/uploads/2025/05/2025.06.15-Baptism-Service-1.jpg
END:VEVENT
BEGIN:VEVENT
DTSTART;TZID=America/New_York:20250615T100000
DTEND;TZID=America/New_York:20250615T113000
DTSTAMP:20260423T104105
CREATED:20250507T172848Z
LAST-MODIFIED:20250507T172852Z
UID:10002452-1749981600-1749987000@oswegoalliance.org
SUMMARY:Father's Day: 6/15/2025 Return Baby Bottles
DESCRIPTION:Father’s Day\, June 15\, 2025: Baby Bottle Collection Day\n\n\n\n\nFather’s Day\, June 15\, 2025: Please return the Baby Bottle that you took home on Mother’s Day\, filled with change\, cash or check to help support the Family Resource Center. \n\n\n\n\n\n\n\n\n\nLearn More About the Family Resource Center\n\n\n\n\n\nFRC of OSwego COunty Website
URL:https://oswegoalliance.org/event/fathers-day-6-15-2025-return-baby-bottles/
LOCATION:Oswego Alliance Church\, 371 Thompson Rd.\, Oswego\, NY\, 13126\, United States
CATEGORIES:Community,Missions,Outreach
ATTACH;FMTTYPE=image/png:https://oswegoalliance.org/wp-content/uploads/2025/05/Baby-bottle-slide-2025-Instagram-Post-45-e1746638090603.png
END:VEVENT
BEGIN:VEVENT
DTSTART;TZID=America/New_York:20250615T100000
DTEND;TZID=America/New_York:20250615T110000
DTSTAMP:20260423T104105
CREATED:20250130T160039Z
LAST-MODIFIED:20250523T035337Z
UID:10001356-1749981600-1749985200@oswegoalliance.org
SUMMARY:Sunday Morning Worship Service
DESCRIPTION:Sunday Morning Worship Service\n\n\n\nOur goal is to provide you with a place to experience God as reflected in Scripture. We will have readings\, singing of hymns and modern worship songs\, prayers\, offerings and the preaching of God’s Word. How you participate will be entirely up to you and how God moves in your heart. \n\n\n\n10:00 am \n\n\n\nOAC Kids Ministry available up through 4th Grade
URL:https://oswegoalliance.org/event/sunday-morning-worship-service/2025-06-15/
LOCATION:Oswego Alliance Church\, 371 Thompson Rd.\, Oswego\, NY\, 13126\, United States
ATTACH;FMTTYPE=image/jpeg:https://oswegoalliance.org/wp-content/uploads/2025/01/ccf43960-e31a-46ef-b107-e6000ad40ceb.jpg
END:VEVENT
BEGIN:VEVENT
DTSTART;TZID=America/New_York:20250614T160000
DTEND;TZID=America/New_York:20250614T190000
DTSTAMP:20260423T104105
CREATED:20241031T222733Z
LAST-MODIFIED:20250523T040207Z
UID:10000987-1749916800-1749927600@oswegoalliance.org
SUMMARY:Parents Night Out: Presented by Foster life
DESCRIPTION:Change in date: This month our Parents Night out will be held the 2nd Saturday of the month\, June 14th. \n\n\n\nFoster Life of Oswego County is a ministry created by a group of local foster families who have a heart to recruit\, equip\, and encourage other foster families in our community.  We aim to do so by offering monthly respite events that provide free childcare while parents have a few hours to themselves\, by offering support groups and trainings\, and by providing meals for foster families when needed. \n\n\n\nOur monthly respite event is usually held the first Saturday of the month from September through June. The event runs from 4-7pm and is held at the Oswego Alliance Church. Foster and adoptive families can drop off all children in their family for a night of fun! \n\n\n\nWe are always looking for more volunteers to help run our respite night events. If you have interest in spending a few hours with some fun kids please let us know! \n\n\n\nAny questions or requests for more information can be sent to fosterlifeoswegocounty@gmail.com
URL:https://oswegoalliance.org/event/parents-night-out-presented-by-foster-life-8/
LOCATION:Oswego Alliance Church\, 371 Thompson Rd.\, Oswego\, NY\, 13126\, United States
CATEGORIES:Community,Foster Care,Outreach
ATTACH;FMTTYPE=image/jpeg:https://oswegoalliance.org/wp-content/uploads/2024/10/2025.06.14-Parents-Night-Out-June-Farm.jpg
ORGANIZER;CN="Foster Life Oswego":MAILTO:fosterlifeoswegocounty@gmail.com
END:VEVENT
BEGIN:VEVENT
DTSTART;TZID=America/New_York:20250613T160000
DTEND;TZID=America/New_York:20250613T164500
DTSTAMP:20260423T104105
CREATED:20250513T182510Z
LAST-MODIFIED:20250513T182513Z
UID:10002574-1749830400-1749833100@oswegoalliance.org
SUMMARY:Mobile Food Pantry 6/13
DESCRIPTION:The Oswego County Health Department partners with the Food Bank of Central New York to bring the Mobile Food Pantry to our county. The Oswego Alliance Church is glad to be a place where this occurs.Anyone in need of food assistance is encouraged to attend and receive a free box of food.***The food boxes are limited to one per household and will be distributed while supplies last. ***There are no income requirements for families and individuals wishing to receive food.Drive Thru Style***Cars start lining up around 3 pm\, if you wait until 4 you may miss out.
URL:https://oswegoalliance.org/event/mobile-food-pantry-6-13-2/
LOCATION:Oswego Alliance Church\, 371 Thompson Rd.\, Oswego\, NY\, 13126\, United States
ATTACH;FMTTYPE=image/jpeg:https://oswegoalliance.org/wp-content/uploads/2025/05/2025.06.13-Mobile-Food-Pantry-613-Presentation.jpg
ORGANIZER;CN="Food Bank of Central New York":MAILTO:rquesada@foodbankcny.org
END:VEVENT
BEGIN:VEVENT
DTSTART;TZID=America/New_York:20250608T100000
DTEND;TZID=America/New_York:20250608T110000
DTSTAMP:20260423T104105
CREATED:20250130T160039Z
LAST-MODIFIED:20250523T035337Z
UID:10001355-1749376800-1749380400@oswegoalliance.org
SUMMARY:Sunday Morning Worship Service
DESCRIPTION:Sunday Morning Worship Service\n\n\n\nOur goal is to provide you with a place to experience God as reflected in Scripture. We will have readings\, singing of hymns and modern worship songs\, prayers\, offerings and the preaching of God’s Word. How you participate will be entirely up to you and how God moves in your heart. \n\n\n\n10:00 am \n\n\n\nOAC Kids Ministry available up through 4th Grade
URL:https://oswegoalliance.org/event/sunday-morning-worship-service/2025-06-08/
LOCATION:Oswego Alliance Church\, 371 Thompson Rd.\, Oswego\, NY\, 13126\, United States
ATTACH;FMTTYPE=image/jpeg:https://oswegoalliance.org/wp-content/uploads/2025/01/ccf43960-e31a-46ef-b107-e6000ad40ceb.jpg
END:VEVENT
BEGIN:VEVENT
DTSTART;TZID=America/New_York:20250608T090000
DTEND;TZID=America/New_York:20250608T094500
DTSTAMP:20260423T104105
CREATED:20250529T134348Z
LAST-MODIFIED:20250529T194506Z
UID:10002619-1749373200-1749375900@oswegoalliance.org
SUMMARY:Teen Sunday School Class
DESCRIPTION:Sundays May 4th-June 8th Students in grades 5-12 are invited to join Jessica Goodnough for a 6-week Sunday School class studying the life of Joseph and learning about how we can live intentionally for God no matter what our circumstances are. Sign up: Email Jessgoodnough@gmail.com
URL:https://oswegoalliance.org/event/teen-sunday-school-class/2025-06-08/
LOCATION:Oswego Alliance Church\, 371 Thompson Rd.\, Oswego\, NY\, 13126\, United States
ATTACH;FMTTYPE=image/png:https://oswegoalliance.org/wp-content/uploads/2025/05/Teen-Sunday-School-IG.png
END:VEVENT
BEGIN:VEVENT
DTSTART;TZID=America/New_York:20250608T090000
DTEND;TZID=America/New_York:20250608T094000
DTSTAMP:20260423T104105
CREATED:20250529T193948Z
LAST-MODIFIED:20250529T194147Z
UID:10002613-1749373200-1749375600@oswegoalliance.org
SUMMARY:Back to the Basics Adult Class
DESCRIPTION:A space to ask questions and learn what we often forget. \n\n\n\nThis is an opportunity for anyone in the church to refresh their understandings of foundational topics and ask questions in an open and welcoming space.
URL:https://oswegoalliance.org/event/back-to-the-basics-adult-class-2/
LOCATION:Oswego Alliance Church\, 371 Thompson Rd.\, Oswego\, NY\, 13126\, United States
CATEGORIES:Church Event,Discipleship,Spiritual Growth
ATTACH;FMTTYPE=image/png:https://oswegoalliance.org/wp-content/uploads/2025/03/Back-to-the-Basics-IGFB.png
END:VEVENT
BEGIN:VEVENT
DTSTART;TZID=America/New_York:20250607T080000
DTEND;TZID=America/New_York:20250607T130000
DTSTAMP:20260423T104105
CREATED:20250317T182920Z
LAST-MODIFIED:20250317T182923Z
UID:10001907-1749283200-1749301200@oswegoalliance.org
SUMMARY:Blood Drive at OAC 06.07.2025
DESCRIPTION:Oswego Alliance Church will be hosting a Blood drive. \n\n\n\n \n\n\n\nEMERGENCY SHORTAGE TYPE O BLOOD AND PLATELETS\n\n\n\nSevere winter weather has forced thousands of blood donations to go uncollected. Right now\, there is an emergency shortage of platelets as well as type O blood. Donors are needed TODAY!  \n\n\n\n\nSo\,  Make an appointment today!
URL:https://oswegoalliance.org/event/blood-drive-at-oac-06-07-2025/
LOCATION:Oswego Alliance Church\, 371 Thompson Rd.\, Oswego\, NY\, 13126\, United States
CATEGORIES:Church Event,Outreach
ATTACH;FMTTYPE=image/jpeg:https://oswegoalliance.org/wp-content/uploads/2025/03/1.jpg
END:VEVENT
BEGIN:VEVENT
DTSTART;TZID=America/New_York:20250601T100000
DTEND;TZID=America/New_York:20250601T113000
DTSTAMP:20260423T104105
CREATED:20250507T182123Z
LAST-MODIFIED:20250507T182127Z
UID:10002572-1748772000-1748777400@oswegoalliance.org
SUMMARY:Blue Bags for Foster Care Collection Day 6/1/2025
DESCRIPTION:Please Return your Blue Bags For Foster Care and Items to Oswego Alliance Church\, Sunday 6/1/2025\n\n\n\n\nPlease Return your Blue Bags for Foster Care and Items to Oswego Alliance Church\, Sunday 6/1/2025 \n\n\n\n\n\n\n\nLearn More aBOUT fOSTER lIFE
URL:https://oswegoalliance.org/event/blue-bags-for-foster-care-collection-day-6-1-2025/
LOCATION:Oswego Alliance Church\, 371 Thompson Rd.\, Oswego\, NY\, 13126\, United States
ATTACH;FMTTYPE=image/png:https://oswegoalliance.org/wp-content/uploads/2025/05/Please-return-blue-bag-instagram-2-e1746641715785.png
END:VEVENT
BEGIN:VEVENT
DTSTART;TZID=America/New_York:20250601T100000
DTEND;TZID=America/New_York:20250601T110000
DTSTAMP:20260423T104105
CREATED:20250130T160039Z
LAST-MODIFIED:20250523T035337Z
UID:10001354-1748772000-1748775600@oswegoalliance.org
SUMMARY:Sunday Morning Worship Service
DESCRIPTION:Sunday Morning Worship Service\n\n\n\nOur goal is to provide you with a place to experience God as reflected in Scripture. We will have readings\, singing of hymns and modern worship songs\, prayers\, offerings and the preaching of God’s Word. How you participate will be entirely up to you and how God moves in your heart. \n\n\n\n10:00 am \n\n\n\nOAC Kids Ministry available up through 4th Grade
URL:https://oswegoalliance.org/event/sunday-morning-worship-service/2025-06-01/
LOCATION:Oswego Alliance Church\, 371 Thompson Rd.\, Oswego\, NY\, 13126\, United States
ATTACH;FMTTYPE=image/jpeg:https://oswegoalliance.org/wp-content/uploads/2025/01/ccf43960-e31a-46ef-b107-e6000ad40ceb.jpg
END:VEVENT
BEGIN:VEVENT
DTSTART;TZID=America/New_York:20250601T090000
DTEND;TZID=America/New_York:20250601T094500
DTSTAMP:20260423T104105
CREATED:20250529T134348Z
LAST-MODIFIED:20250529T194506Z
UID:10002618-1748768400-1748771100@oswegoalliance.org
SUMMARY:Teen Sunday School Class
DESCRIPTION:Sundays May 4th-June 8th Students in grades 5-12 are invited to join Jessica Goodnough for a 6-week Sunday School class studying the life of Joseph and learning about how we can live intentionally for God no matter what our circumstances are. Sign up: Email Jessgoodnough@gmail.com
URL:https://oswegoalliance.org/event/teen-sunday-school-class/2025-06-01/
LOCATION:Oswego Alliance Church\, 371 Thompson Rd.\, Oswego\, NY\, 13126\, United States
ATTACH;FMTTYPE=image/png:https://oswegoalliance.org/wp-content/uploads/2025/05/Teen-Sunday-School-IG.png
END:VEVENT
BEGIN:VEVENT
DTSTART;TZID=America/New_York:20250601T090000
DTEND;TZID=America/New_York:20250601T094000
DTSTAMP:20260423T104105
CREATED:20250307T032829Z
LAST-MODIFIED:20250529T133224Z
UID:10002612-1748768400-1748770800@oswegoalliance.org
SUMMARY:Back to the Basics Adult Class
DESCRIPTION:A space to ask questions and learn what we often forget. \n\n\n\nThis is an opportunity for anyone in the church to refresh their understandings of foundational topics and ask questions in an open and welcoming space.
URL:https://oswegoalliance.org/event/back-to-the-basics-adult-class/2025-06-01/
LOCATION:Oswego Alliance Church\, 371 Thompson Rd.\, Oswego\, NY\, 13126\, United States
CATEGORIES:Church Event,Discipleship,Spiritual Growth
ATTACH;FMTTYPE=image/png:https://oswegoalliance.org/wp-content/uploads/2025/03/Back-to-the-Basics-IGFB.png
END:VEVENT
BEGIN:VEVENT
DTSTART;TZID=America/New_York:20250525T100000
DTEND;TZID=America/New_York:20250525T110000
DTSTAMP:20260423T104105
CREATED:20250130T160039Z
LAST-MODIFIED:20250523T035337Z
UID:10001353-1748167200-1748170800@oswegoalliance.org
SUMMARY:Sunday Morning Worship Service
DESCRIPTION:Sunday Morning Worship Service\n\n\n\nOur goal is to provide you with a place to experience God as reflected in Scripture. We will have readings\, singing of hymns and modern worship songs\, prayers\, offerings and the preaching of God’s Word. How you participate will be entirely up to you and how God moves in your heart. \n\n\n\n10:00 am \n\n\n\nOAC Kids Ministry available up through 4th Grade
URL:https://oswegoalliance.org/event/sunday-morning-worship-service/2025-05-25/
LOCATION:Oswego Alliance Church\, 371 Thompson Rd.\, Oswego\, NY\, 13126\, United States
ATTACH;FMTTYPE=image/jpeg:https://oswegoalliance.org/wp-content/uploads/2025/01/ccf43960-e31a-46ef-b107-e6000ad40ceb.jpg
END:VEVENT
BEGIN:VEVENT
DTSTART;TZID=America/New_York:20250525T090000
DTEND;TZID=America/New_York:20250525T094500
DTSTAMP:20260423T104105
CREATED:20250529T134348Z
LAST-MODIFIED:20250529T194506Z
UID:10002617-1748163600-1748166300@oswegoalliance.org
SUMMARY:Teen Sunday School Class
DESCRIPTION:Sundays May 4th-June 8th Students in grades 5-12 are invited to join Jessica Goodnough for a 6-week Sunday School class studying the life of Joseph and learning about how we can live intentionally for God no matter what our circumstances are. Sign up: Email Jessgoodnough@gmail.com
URL:https://oswegoalliance.org/event/teen-sunday-school-class/2025-05-25/
LOCATION:Oswego Alliance Church\, 371 Thompson Rd.\, Oswego\, NY\, 13126\, United States
ATTACH;FMTTYPE=image/png:https://oswegoalliance.org/wp-content/uploads/2025/05/Teen-Sunday-School-IG.png
END:VEVENT
BEGIN:VEVENT
DTSTART;TZID=America/New_York:20250525T090000
DTEND;TZID=America/New_York:20250525T094000
DTSTAMP:20260423T104106
CREATED:20250307T032829Z
LAST-MODIFIED:20250529T133224Z
UID:10002611-1748163600-1748166000@oswegoalliance.org
SUMMARY:Back to the Basics Adult Class
DESCRIPTION:A space to ask questions and learn what we often forget. \n\n\n\nThis is an opportunity for anyone in the church to refresh their understandings of foundational topics and ask questions in an open and welcoming space.
URL:https://oswegoalliance.org/event/back-to-the-basics-adult-class/2025-05-25/
LOCATION:Oswego Alliance Church\, 371 Thompson Rd.\, Oswego\, NY\, 13126\, United States
CATEGORIES:Church Event,Discipleship,Spiritual Growth
ATTACH;FMTTYPE=image/png:https://oswegoalliance.org/wp-content/uploads/2025/03/Back-to-the-Basics-IGFB.png
END:VEVENT
BEGIN:VEVENT
DTSTART;TZID=America/New_York:20250518T113000
DTEND;TZID=America/New_York:20250518T123000
DTSTAMP:20260423T104106
CREATED:20250404T004528Z
LAST-MODIFIED:20250424T193322Z
UID:10002179-1747567800-1747571400@oswegoalliance.org
SUMMARY:Better Together Brunch 5-18-2025
DESCRIPTION:Better TOgether Brunch\n\n\n\nJoin us after the service for our next Better Together Brunch\, this time it will be breakfast themed! \n\n\n\nCrepes\, Pancakes and Sausage will be served. \n\n\n\nPlease bring brunch side dishes or toppings. There are signup sheets in the narthex.
URL:https://oswegoalliance.org/event/better-together-brunch-5-18-2025/
LOCATION:Oswego Alliance Church\, 371 Thompson Rd.\, Oswego\, NY\, 13126\, United States
ATTACH;FMTTYPE=image/jpeg:https://oswegoalliance.org/wp-content/uploads/2025/04/2025.05.18-better-Together-Bruch-presentation.jpg
END:VEVENT
BEGIN:VEVENT
DTSTART;TZID=America/New_York:20250518T100000
DTEND;TZID=America/New_York:20250518T110000
DTSTAMP:20260423T104106
CREATED:20250130T160039Z
LAST-MODIFIED:20250523T035337Z
UID:10001352-1747562400-1747566000@oswegoalliance.org
SUMMARY:Sunday Morning Worship Service
DESCRIPTION:Sunday Morning Worship Service\n\n\n\nOur goal is to provide you with a place to experience God as reflected in Scripture. We will have readings\, singing of hymns and modern worship songs\, prayers\, offerings and the preaching of God’s Word. How you participate will be entirely up to you and how God moves in your heart. \n\n\n\n10:00 am \n\n\n\nOAC Kids Ministry available up through 4th Grade
URL:https://oswegoalliance.org/event/sunday-morning-worship-service/2025-05-18/
LOCATION:Oswego Alliance Church\, 371 Thompson Rd.\, Oswego\, NY\, 13126\, United States
ATTACH;FMTTYPE=image/jpeg:https://oswegoalliance.org/wp-content/uploads/2025/01/ccf43960-e31a-46ef-b107-e6000ad40ceb.jpg
END:VEVENT
BEGIN:VEVENT
DTSTART;TZID=America/New_York:20250518T090000
DTEND;TZID=America/New_York:20250518T094500
DTSTAMP:20260423T104106
CREATED:20250529T134348Z
LAST-MODIFIED:20250529T194506Z
UID:10002616-1747558800-1747561500@oswegoalliance.org
SUMMARY:Teen Sunday School Class
DESCRIPTION:Sundays May 4th-June 8th Students in grades 5-12 are invited to join Jessica Goodnough for a 6-week Sunday School class studying the life of Joseph and learning about how we can live intentionally for God no matter what our circumstances are. Sign up: Email Jessgoodnough@gmail.com
URL:https://oswegoalliance.org/event/teen-sunday-school-class/2025-05-18/
LOCATION:Oswego Alliance Church\, 371 Thompson Rd.\, Oswego\, NY\, 13126\, United States
ATTACH;FMTTYPE=image/png:https://oswegoalliance.org/wp-content/uploads/2025/05/Teen-Sunday-School-IG.png
END:VEVENT
BEGIN:VEVENT
DTSTART;TZID=America/New_York:20250518T090000
DTEND;TZID=America/New_York:20250518T094000
DTSTAMP:20260423T104106
CREATED:20250307T032829Z
LAST-MODIFIED:20250529T133224Z
UID:10002610-1747558800-1747561200@oswegoalliance.org
SUMMARY:Back to the Basics Adult Class
DESCRIPTION:A space to ask questions and learn what we often forget. \n\n\n\nThis is an opportunity for anyone in the church to refresh their understandings of foundational topics and ask questions in an open and welcoming space.
URL:https://oswegoalliance.org/event/back-to-the-basics-adult-class/2025-05-18/
LOCATION:Oswego Alliance Church\, 371 Thompson Rd.\, Oswego\, NY\, 13126\, United States
CATEGORIES:Church Event,Discipleship,Spiritual Growth
ATTACH;FMTTYPE=image/png:https://oswegoalliance.org/wp-content/uploads/2025/03/Back-to-the-Basics-IGFB.png
END:VEVENT
BEGIN:VEVENT
DTSTART;TZID=America/New_York:20250511T100000
DTEND;TZID=America/New_York:20250601T110000
DTSTAMP:20260423T104106
CREATED:20250506T174353Z
LAST-MODIFIED:20250507T173504Z
UID:10002571-1746957600-1748775600@oswegoalliance.org
SUMMARY:Blue Bags for Foster Care
DESCRIPTION:Blue Bags for Foster Life: Collecting Items 5/11/- 6/1/2025\n\n\n\n\nBlue Bags for Foster Life: Collect Donations for our Foster Care Closets: Take a Blue Bag from the Narthex\, purchase the items on the tag\, and return the bag and the items on or before June 1\, 2025
URL:https://oswegoalliance.org/event/blue-bags-for-foster-care/
LOCATION:Oswego Alliance Church\, 371 Thompson Rd.\, Oswego\, NY\, 13126\, United States
ATTACH;FMTTYPE=image/png:https://oswegoalliance.org/wp-content/uploads/2025/05/blue-bags-website-photo.png
ORGANIZER;CN="Foster Life Oswego":MAILTO:fosterlifeoswegocounty@gmail.com
END:VEVENT
BEGIN:VEVENT
DTSTART;TZID=America/New_York:20250511T100000
DTEND;TZID=America/New_York:20250511T110000
DTSTAMP:20260423T104106
CREATED:20250130T160039Z
LAST-MODIFIED:20250523T035337Z
UID:10001351-1746957600-1746961200@oswegoalliance.org
SUMMARY:Sunday Morning Worship Service
DESCRIPTION:Sunday Morning Worship Service\n\n\n\nOur goal is to provide you with a place to experience God as reflected in Scripture. We will have readings\, singing of hymns and modern worship songs\, prayers\, offerings and the preaching of God’s Word. How you participate will be entirely up to you and how God moves in your heart. \n\n\n\n10:00 am \n\n\n\nOAC Kids Ministry available up through 4th Grade
URL:https://oswegoalliance.org/event/sunday-morning-worship-service/2025-05-11/
LOCATION:Oswego Alliance Church\, 371 Thompson Rd.\, Oswego\, NY\, 13126\, United States
ATTACH;FMTTYPE=image/jpeg:https://oswegoalliance.org/wp-content/uploads/2025/01/ccf43960-e31a-46ef-b107-e6000ad40ceb.jpg
END:VEVENT
BEGIN:VEVENT
DTSTART;TZID=America/New_York:20250511T090000
DTEND;TZID=America/New_York:20250511T094500
DTSTAMP:20260423T104106
CREATED:20250529T134348Z
LAST-MODIFIED:20250529T194506Z
UID:10002615-1746954000-1746956700@oswegoalliance.org
SUMMARY:Teen Sunday School Class
DESCRIPTION:Sundays May 4th-June 8th Students in grades 5-12 are invited to join Jessica Goodnough for a 6-week Sunday School class studying the life of Joseph and learning about how we can live intentionally for God no matter what our circumstances are. Sign up: Email Jessgoodnough@gmail.com
URL:https://oswegoalliance.org/event/teen-sunday-school-class/2025-05-11/
LOCATION:Oswego Alliance Church\, 371 Thompson Rd.\, Oswego\, NY\, 13126\, United States
ATTACH;FMTTYPE=image/png:https://oswegoalliance.org/wp-content/uploads/2025/05/Teen-Sunday-School-IG.png
END:VEVENT
BEGIN:VEVENT
DTSTART;TZID=America/New_York:20250511T090000
DTEND;TZID=America/New_York:20250511T094000
DTSTAMP:20260423T104106
CREATED:20250307T032829Z
LAST-MODIFIED:20250529T133224Z
UID:10002609-1746954000-1746956400@oswegoalliance.org
SUMMARY:Back to the Basics Adult Class
DESCRIPTION:A space to ask questions and learn what we often forget. \n\n\n\nThis is an opportunity for anyone in the church to refresh their understandings of foundational topics and ask questions in an open and welcoming space.
URL:https://oswegoalliance.org/event/back-to-the-basics-adult-class/2025-05-11/
LOCATION:Oswego Alliance Church\, 371 Thompson Rd.\, Oswego\, NY\, 13126\, United States
CATEGORIES:Church Event,Discipleship,Spiritual Growth
ATTACH;FMTTYPE=image/png:https://oswegoalliance.org/wp-content/uploads/2025/03/Back-to-the-Basics-IGFB.png
END:VEVENT
BEGIN:VEVENT
DTSTART;TZID=America/New_York:20250509T190000
DTEND;TZID=America/New_York:20250509T203000
DTSTAMP:20260423T104106
CREATED:20250422T034931Z
LAST-MODIFIED:20250422T034939Z
UID:10000284-1746817200-1746822600@oswegoalliance.org
SUMMARY:Foster the Family Caregiver Support Group
DESCRIPTION:This community group provides emotional\, mental\, and spiritual support to foster and adoptive care moms. This group meets every third Thursday of the month in the classroom next to the coffee area. \n\n\n\n(For the Month of May the date is changed to Friday\, May 9th for a Special Mother’s Day Celebration)  \n\n\n\nFor Information
URL:https://oswegoalliance.org/event/foster-the-family-caregiver-support-group-4/
LOCATION:Oswego Alliance Church\, 371 Thompson Rd.\, Oswego\, NY\, 13126\, United States
CATEGORIES:Community,Foster Care
ATTACH;FMTTYPE=image/png:https://oswegoalliance.org/wp-content/uploads/2024/07/foster-the-family-edited-in-canva-copy.png
ORGANIZER;CN="Jillian Pritchard":MAILTO:jillianpritchard1@gmail.com
END:VEVENT
BEGIN:VEVENT
DTSTART;TZID=America/New_York:20250504T100000
DTEND;TZID=America/New_York:20250504T110000
DTSTAMP:20260423T104106
CREATED:20250130T160039Z
LAST-MODIFIED:20250523T035337Z
UID:10001350-1746352800-1746356400@oswegoalliance.org
SUMMARY:Sunday Morning Worship Service
DESCRIPTION:Sunday Morning Worship Service\n\n\n\nOur goal is to provide you with a place to experience God as reflected in Scripture. We will have readings\, singing of hymns and modern worship songs\, prayers\, offerings and the preaching of God’s Word. How you participate will be entirely up to you and how God moves in your heart. \n\n\n\n10:00 am \n\n\n\nOAC Kids Ministry available up through 4th Grade
URL:https://oswegoalliance.org/event/sunday-morning-worship-service/2025-05-04/
LOCATION:Oswego Alliance Church\, 371 Thompson Rd.\, Oswego\, NY\, 13126\, United States
ATTACH;FMTTYPE=image/jpeg:https://oswegoalliance.org/wp-content/uploads/2025/01/ccf43960-e31a-46ef-b107-e6000ad40ceb.jpg
END:VEVENT
BEGIN:VEVENT
DTSTART;TZID=America/New_York:20250504T090000
DTEND;TZID=America/New_York:20250504T094500
DTSTAMP:20260423T104106
CREATED:20250529T134348Z
LAST-MODIFIED:20250529T194506Z
UID:10002614-1746349200-1746351900@oswegoalliance.org
SUMMARY:Teen Sunday School Class
DESCRIPTION:Sundays May 4th-June 8th Students in grades 5-12 are invited to join Jessica Goodnough for a 6-week Sunday School class studying the life of Joseph and learning about how we can live intentionally for God no matter what our circumstances are. Sign up: Email Jessgoodnough@gmail.com
URL:https://oswegoalliance.org/event/teen-sunday-school-class/2025-05-04/
LOCATION:Oswego Alliance Church\, 371 Thompson Rd.\, Oswego\, NY\, 13126\, United States
ATTACH;FMTTYPE=image/png:https://oswegoalliance.org/wp-content/uploads/2025/05/Teen-Sunday-School-IG.png
END:VEVENT
BEGIN:VEVENT
DTSTART;TZID=America/New_York:20250504T090000
DTEND;TZID=America/New_York:20250504T094000
DTSTAMP:20260423T104106
CREATED:20250307T032829Z
LAST-MODIFIED:20250529T133224Z
UID:10001899-1746349200-1746351600@oswegoalliance.org
SUMMARY:Back to the Basics Adult Class
DESCRIPTION:A space to ask questions and learn what we often forget. \n\n\n\nThis is an opportunity for anyone in the church to refresh their understandings of foundational topics and ask questions in an open and welcoming space.
URL:https://oswegoalliance.org/event/back-to-the-basics-adult-class/2025-05-04/
LOCATION:Oswego Alliance Church\, 371 Thompson Rd.\, Oswego\, NY\, 13126\, United States
CATEGORIES:Church Event,Discipleship,Spiritual Growth
ATTACH;FMTTYPE=image/png:https://oswegoalliance.org/wp-content/uploads/2025/03/Back-to-the-Basics-IGFB.png
END:VEVENT
END:VCALENDAR